BEGIN:VCALENDAR
VERSION:2.0
PRODID:-//VDS - ECPv6.15.20//NONSGML v1.0//EN
CALSCALE:GREGORIAN
METHOD:PUBLISH
X-WR-CALNAME:VDS
X-ORIGINAL-URL:https://vds.tech
X-WR-CALDESC:Events for VDS
REFRESH-INTERVAL;VALUE=DURATION:PT1H
X-Robots-Tag:noindex
X-PUBLISHED-TTL:PT1H
BEGIN:VTIMEZONE
TZID:Europe/Madrid
BEGIN:DAYLIGHT
TZOFFSETFROM:+0100
TZOFFSETTO:+0200
TZNAME:CEST
DTSTART:20240331T010000
END:DAYLIGHT
BEGIN:STANDARD
TZOFFSETFROM:+0200
TZOFFSETTO:+0100
TZNAME:CET
DTSTART:20241027T010000
END:STANDARD
BEGIN:DAYLIGHT
TZOFFSETFROM:+0100
TZOFFSETTO:+0200
TZNAME:CEST
DTSTART:20250330T010000
END:DAYLIGHT
BEGIN:STANDARD
TZOFFSETFROM:+0200
TZOFFSETTO:+0100
TZNAME:CET
DTSTART:20251026T010000
END:STANDARD
BEGIN:DAYLIGHT
TZOFFSETFROM:+0100
TZOFFSETTO:+0200
TZNAME:CEST
DTSTART:20260329T010000
END:DAYLIGHT
BEGIN:STANDARD
TZOFFSETFROM:+0200
TZOFFSETTO:+0100
TZNAME:CET
DTSTART:20261025T010000
END:STANDARD
END:VTIMEZONE
BEGIN:VEVENT
DTSTART;TZID=Europe/Madrid:20251022T100000
DTEND;TZID=Europe/Madrid:20251022T103000
DTSTAMP:20260422T131845
CREATED:20241022T214558Z
LAST-MODIFIED:20251023T070115Z
UID:40243-1761127200-1761129000@vds.tech
SUMMARY:Beyond the Pipeline: Building Inclusive Hiring Strategies That Scale
DESCRIPTION:As tech companies expand across borders\, the challenge is hiring inclusively and equitably at scale. In this session\, Terence Guiamo\, Global Director of Inclusion\, Diversity & Belonging at Just Eat Takeaway.com\, and Anastasia Pshegodskaya\, Global Director of Talent Acquisition at Remote\, share how they’re rethinking recruitment for the future of work. From designing gender-balanced hiring strategies to building globally distributed teams\, this conversation explores what inclusive recruitment really means in a fast-growing tech environment.
URL:https://vds.tech/event/beyond-the-pipeline-building-inclusive-hiring-strategies-that-scale/
LOCATION:Santander Stage
CATEGORIES:Santander Stage
ORGANIZER;CN="Anastasia Pshegodskaya":MAILTO:anastasia@remote.com
END:VEVENT
BEGIN:VEVENT
DTSTART;TZID=Europe/Madrid:20251022T103000
DTEND;TZID=Europe/Madrid:20251022T110000
DTSTAMP:20260422T131845
CREATED:20240926T103820Z
LAST-MODIFIED:20251023T070009Z
UID:31101-1761129000-1761130800@vds.tech
SUMMARY:Open Urban Platform: For Smart Citizen Centric Cities
DESCRIPTION:Collaboration is key to unlocking the power of data in Europe — but complexity has held cities back. European Dataspaces offer huge potential\, yet most solutions remain too technical and costly. This panel will discuss how Open Urban Platform changes that with an accessible\, affordable approach to smarter\, citizen-focused cities. Because\, the challenge isn’t tech — it’s working together.
URL:https://vds.tech/event/open-urban-platform-for-smart-citizen-centric-cities/
LOCATION:Santander Stage
CATEGORIES:Santander Stage
ORGANIZER;CN="Albert Engels":MAILTO:afrm.engels@rotterdam.nl
END:VEVENT
BEGIN:VEVENT
DTSTART;TZID=Europe/Madrid:20251022T110000
DTEND;TZID=Europe/Madrid:20251022T112000
DTSTAMP:20260422T131845
CREATED:20241007T144025Z
LAST-MODIFIED:20251023T070238Z
UID:35726-1761130800-1761132000@vds.tech
SUMMARY:Security for Future Cities – Blended Threats and AI-augmented Risk Mitigation
DESCRIPTION:Cities are confronted with new types of risks. The current paradigm for security is inadequate and outdated. In this presentation\, we introduce potential threat scenarios and their likely impact on future cities to then sketch a vision for Urban Security.
URL:https://vds.tech/event/security-for-future-cities-blended-threats-and-ai-augmented-risk-mitigation/
LOCATION:Santander Stage
CATEGORIES:Santander Stage
ORGANIZER;CN="Knut Schoenfelder":MAILTO:knut@tenacities.co
END:VEVENT
BEGIN:VEVENT
DTSTART;TZID=Europe/Madrid:20251022T112000
DTEND;TZID=Europe/Madrid:20251022T114000
DTSTAMP:20260422T131845
CREATED:20240926T103847Z
LAST-MODIFIED:20251023T070254Z
UID:31357-1761132000-1761133200@vds.tech
SUMMARY:Anatomy of Venture Capital in Europe
DESCRIPTION:With a perspective on startups\, Spanish VCs\, and European VCs\, we will analyze all the essential variables for making investment decisions related to the latest trends\, such as AI\, Deeptech\, etc. The startup as a guiding thread will guide us through a dissection of how VCs behave\, what interests them\, and where they look for the latest trends. Times change\, technologies advance rapidly\, and the way we analyze potential unicorns is ever-changing and diverse\, and we will explain the key factors.
URL:https://vds.tech/event/anatomy-of-venture-capital-in-europe/
LOCATION:Santander Stage
CATEGORIES:Santander Stage
ORGANIZER;CN="Marton Medveczky":MAILTO:adrianna@flashpointvc.com
END:VEVENT
BEGIN:VEVENT
DTSTART;TZID=Europe/Madrid:20251022T114000
DTEND;TZID=Europe/Madrid:20251022T120000
DTSTAMP:20260422T131845
CREATED:20240926T103827Z
LAST-MODIFIED:20251023T070110Z
UID:31176-1761133200-1761134400@vds.tech
SUMMARY:The City That Sees Everyone: Designing for (Neuro)diversity\, Safety\, and Belonging
DESCRIPTION:Cities are often built for the “average” citizen—a person who doesn’t exist. In this provocative keynote\, Dr. Elizabeth Nelson challenges that cookie-cutter mindset and shows how urban spaces can either overload\, exclude\, or liberate the people who live in them. Blending neuroscience\, design\, and social insight\, she explores what it really takes to build cities that see every mind and body: safer\, smarter\, more humane environments where difference isn’t just accommodated—it becomes the engine of progress.
URL:https://vds.tech/event/the-city-that-sees-everyone-designing-for-neurodiversity-safety-and-belonging/
LOCATION:Santander Stage
CATEGORIES:Santander Stage
ORGANIZER;CN="Dr. Elizabeth Nelson":MAILTO:elizabeth@smartbuildingcertification.com
END:VEVENT
BEGIN:VEVENT
DTSTART;TZID=Europe/Madrid:20251022T120000
DTEND;TZID=Europe/Madrid:20251022T122000
DTSTAMP:20260422T131845
CREATED:20241016T112627Z
LAST-MODIFIED:20251023T070210Z
UID:38267-1761134400-1761135600@vds.tech
SUMMARY:Avoiding Urban Design Mistakes of the Past\, for the Better Future of our Cities
DESCRIPTION:For decades\, our cities have been designed around the daily routines of able-bodied adults in full-time work\, ignoring the different rhythms and needs of everyone else. In this keynote\, Honorata Grzesikowska combines groundbreaking research with two decades of deep diving into how we build\, revealing the lessons city designers often overlook\, and offering sharp insights into how embracing them can lead to healthier\, safer\, and more inclusive urban futures.
URL:https://vds.tech/event/avoiding-urban-design-mistakes-of-the-past-for-the-better-future-of-our-cities/
LOCATION:Santander Stage
CATEGORIES:Santander Stage
ORGANIZER;CN="Honorata Grzesikowska":MAILTO:honorata.grzesikowska@gmail.com
END:VEVENT
BEGIN:VEVENT
DTSTART;TZID=Europe/Madrid:20251022T122000
DTEND;TZID=Europe/Madrid:20251022T124000
DTSTAMP:20260422T131845
CREATED:20251014T155806Z
LAST-MODIFIED:20251023T070219Z
UID:56453-1761135600-1761136800@vds.tech
SUMMARY:Longevity\, Leisure\, or Business? How Close are we to Building Sustainable Businesses that are Growing\, Profitable\, and Have a High Impact on Health?
DESCRIPTION:This session brings together leading voices in longevity and health innovation to explore the current state of the field — from personal protocols to emerging investment opportunities. We’ll begin with a grounded look at what experts are actually doing in their daily routines: exercise\, supplementation\, tracking tools\, and what measurable impact they’ve seen in recent years. \nWe’ll then delve into the broader landscape: the current reality of longevity vs. healthspan\, and how close we really are to breakthroughs like the so-called Longevity Velocity Escape\, recently cited by Ray Kurzweil as being just seven years away. \nFrom there\, we’ll examine what it takes to responsibly invest in this space. What trends are worth watching? What foundational knowledge is needed to navigate the hype and identify sustainable innovation? \nFinally\, we’ll discuss how to enter and understand the sector — with practical tips for those looking to go deeper. While much of the space remains in its infancy\, this panel aims to separate signal from noise and offer a clear-eyed view of what’s really happening.
URL:https://vds.tech/event/longevity-leisure-or-business-how-close-are-we-to-building-sustainable-businesses-that-are-growing-profitable-and-have-a-high-impact-on-health/
LOCATION:Santander Stage
CATEGORIES:Santander Stage
ORGANIZER;CN="Samuel Gil":MAILTO:samuel@jme.vc
END:VEVENT
BEGIN:VEVENT
DTSTART;TZID=Europe/Madrid:20251022T124000
DTEND;TZID=Europe/Madrid:20251022T125500
DTSTAMP:20260422T131845
CREATED:20240926T103825Z
LAST-MODIFIED:20251023T070048Z
UID:31151-1761136800-1761137700@vds.tech
SUMMARY:Semiconductor Global & EU Markets: Forecast & Scenarios
DESCRIPTION:Despite its cyclical nature\, the semiconductor sector is experiencing one of its most\ninteresting periods with the greatest potential for expansion due to the significant\ndevelopment of artificial intelligence\, the need for data storage and processing\, and\nother applications such as the Internet of Things. Most forecasts predict strong\ngrowth in the sector by 2030. Drawing on her significant experience as president of\nTSMC Europe\, Maria Marced will offer a description of the current situation in the\nsector\, as well as some interesting business opportunities emerging in this\ntechnological environment.
URL:https://vds.tech/event/semiconductor-global-eu-markets-forecast-scenarios/
LOCATION:Santander Stage
CATEGORIES:Santander Stage
ORGANIZER;CN="Maria Marced":MAILTO:maria.a.marced@gmail.com
END:VEVENT
BEGIN:VEVENT
DTSTART;TZID=Europe/Madrid:20251022T125500
DTEND;TZID=Europe/Madrid:20251022T131500
DTSTAMP:20260422T131845
CREATED:20241014T152236Z
LAST-MODIFIED:20251023T070030Z
UID:37699-1761137700-1761138900@vds.tech
SUMMARY:European Chips Act 2.0 Priorities and challenges for a new semiconductor European framework.
DESCRIPTION:Although\, after nearly three years of implementation\, the European Chips Act has\nproven to be a useful tool for boosting the European semiconductor sector\, many\nobjectives linked to a genuine European microchip strategy remain unmet. Through\nclose collaboration between the industry and the European Commission\, the\nproposed approval of a European Chips Act 2.0 is generating enormous interest\namong the main players in the sector. The possibility of designing a new legal and\nfinancial framework for the microchip sector opens up significant opportunities\, but\nalso risks repeating some of the mistakes of previous initiatives in this field.
URL:https://vds.tech/event/european-chips-act-2-0-priorities-and-challenges-for-a-new-semiconductor-european-framework/
LOCATION:Santander Stage
CATEGORIES:Santander Stage
ORGANIZER;CN="Alfonso Gabarr%C3%B3n":MAILTO:a.gabarron11@gmail.com
END:VEVENT
BEGIN:VEVENT
DTSTART;TZID=Europe/Madrid:20251022T131500
DTEND;TZID=Europe/Madrid:20251022T134000
DTSTAMP:20260422T131845
CREATED:20250919T072736Z
LAST-MODIFIED:20251023T070132Z
UID:47550-1761138900-1761140400@vds.tech
SUMMARY:Fundraising in Uncertain Times: How to Raise Capital in Regulated and Impact Sectors
DESCRIPTION:
URL:https://vds.tech/event/fundraising-in-uncertain-times-how-to-raise-capital-in-regulated-and-impact-sectors/
LOCATION:Santander Stage
CATEGORIES:Santander Stage
ORGANIZER;CN="Pierre Ferran":MAILTO:pierre@kalipso.ai
END:VEVENT
BEGIN:VEVENT
DTSTART;TZID=Europe/Madrid:20251022T134000
DTEND;TZID=Europe/Madrid:20251022T140000
DTSTAMP:20260422T131845
CREATED:20251014T092916Z
LAST-MODIFIED:20251023T070235Z
UID:55535-1761140400-1761141600@vds.tech
SUMMARY:European Tech Champions
DESCRIPTION:
URL:https://vds.tech/event/european-tech-champions/
LOCATION:Santander Stage
CATEGORIES:Santander Stage
ORGANIZER;CN="Jaime Bosch":MAILTO:jaime@voicemod.net
END:VEVENT
BEGIN:VEVENT
DTSTART;TZID=Europe/Madrid:20251022T150000
DTEND;TZID=Europe/Madrid:20251022T152000
DTSTAMP:20260422T131845
CREATED:20241023T183402Z
LAST-MODIFIED:20251023T070232Z
UID:40870-1761145200-1761146400@vds.tech
SUMMARY:The Future of Intelligence: Neurodivergent Brilliance and Authentic Leadership in the Age of AI
DESCRIPTION:In this fireside chat\, Catarina Moraga-Scholte\, strategist and neurodivergent leader\, explores how authenticity and diverse thinking are redefining leadership in the era of artificial intelligence. She discusses why truth now matters more than polish\, how AI “reads” human authenticity\, and why neurodivergent perspectives drive innovation. Through stories and a live experiment\, she reveals how psychological safety and curiosity help teams draw new maps for creativity and performance — shaping a future where AI learns from what makes us most human.
URL:https://vds.tech/event/the-future-of-intelligence-neurodivergent-brilliance-and-authentic-leadership-in-the-age-of-ai/
LOCATION:Santander Stage
CATEGORIES:Santander Stage
ORGANIZER;CN="Cat Moraga-Scholte":MAILTO:moragacaterina@gmail.com
END:VEVENT
BEGIN:VEVENT
DTSTART;TZID=Europe/Madrid:20251022T152000
DTEND;TZID=Europe/Madrid:20251022T154000
DTSTAMP:20260422T131845
CREATED:20250924T100540Z
LAST-MODIFIED:20251023T070217Z
UID:49303-1761146400-1761147600@vds.tech
SUMMARY:Next-Gen Sports Tech: How Data & AI Are Transforming Performance & Fan Experience
DESCRIPTION:Twenty-first century sports are being redesigned by technology. Artificial intelligence\, advanced sensing\, and data analytics have penetrated every level—from physical preparation to spectator experience. In the competitive realm\, performance analytics solutions allow personalized training\, injury prevention\, and scenario modeling with previously unthinkable precision. On the other hand\, the fan experience has become an interactive narrative: augmented reality\, immersive content\, personalized stats\, and gamified formats deepen emotional ties with teams.\nThis dual impact—technical and experiential—makes sports one of the most dynamic sectors for applied innovation. Startups\, leagues\, clubs\, and investors are betting on solutions that merge entertainment\, data science\, and engagement with a global community.
URL:https://vds.tech/event/next-gen-sports-tech-how-data-ai-are-transforming-performance-fan-experience/
LOCATION:Santander Stage
CATEGORIES:Santander Stage
ORGANIZER;CN="Victor Garcia":MAILTO:vic@ybvr.com
END:VEVENT
BEGIN:VEVENT
DTSTART;TZID=Europe/Madrid:20251022T154000
DTEND;TZID=Europe/Madrid:20251022T160000
DTSTAMP:20260422T131845
CREATED:20240926T103826Z
LAST-MODIFIED:20251023T070056Z
UID:31160-1761147600-1761148800@vds.tech
SUMMARY:Queer Capital: Betting on Identity to Build the Future
DESCRIPTION:What happens when you stop pattern-matching and start backing boldness? In this provocative session\, Sam Eshrati—Venture Partner of Identity.VC\, Europe’s first VC dedicated to LGBTQ+ founders—makes the case for queer capital as an engine of innovation. From fashion to fintech\, queer entrepreneurs have always challenged the status quo. Now\, investors are waking up to the value of lived experience\, inclusive leadership\, and culture-first strategies in building high-growth ventures. This conversation redefines risk\, reframes talent\, and reveals how investing in identity isn’t just inclusive—it’s smart business.
URL:https://vds.tech/event/queer-capital-betting-on-identity-to-build-the-future/
LOCATION:Santander Stage
CATEGORIES:Santander Stage
ORGANIZER;CN="Sam Eshrati":MAILTO:sa.eshrati@gmail.com
END:VEVENT
BEGIN:VEVENT
DTSTART;TZID=Europe/Madrid:20251022T160000
DTEND;TZID=Europe/Madrid:20251022T164000
DTSTAMP:20260422T131845
CREATED:20251015T213251Z
LAST-MODIFIED:20251023T070218Z
UID:58124-1761148800-1761151200@vds.tech
SUMMARY:Beyond Limits: The Mindset of Entrepreneurs
DESCRIPTION:
URL:https://vds.tech/event/beyond-limits-the-mindset-of-entrepreneurs/
LOCATION:Santander Stage
CATEGORIES:Santander Stage
ORGANIZER;CN="Pablo Fernandez":MAILTO:team@pablofernandez.com
END:VEVENT
BEGIN:VEVENT
DTSTART;TZID=Europe/Madrid:20251022T164000
DTEND;TZID=Europe/Madrid:20251022T170000
DTSTAMP:20260422T131845
CREATED:20250919T072911Z
LAST-MODIFIED:20251023T070306Z
UID:47726-1761151200-1761152400@vds.tech
SUMMARY:Santander X Awards Ceremony
DESCRIPTION:
URL:https://vds.tech/event/santander-x-awards-ceremony/
LOCATION:Santander Stage
CATEGORIES:Santander Stage
ORGANIZER;CN="Marta Nogueras":MAILTO:mnogueras@marinadeempresas.es
END:VEVENT
BEGIN:VEVENT
DTSTART;TZID=Europe/Madrid:20251022T170000
DTEND;TZID=Europe/Madrid:20251022T173000
DTSTAMP:20260422T131845
CREATED:20240926T103832Z
LAST-MODIFIED:20251023T070157Z
UID:31229-1761152400-1761154200@vds.tech
SUMMARY:Scaling with Soul: How Culture Powers Growth in Climate Tech
DESCRIPTION:What happens when you mix rapid growth\, deep purpose\, and a commitment to people-first leadership? Gorilla is showing how climate tech companies can scale without losing their soul. Vanessa Monsequeira—People & Culture leader\, business psychologist\, and self-described “corporate hippy”—joins fellow leaders to share how Gorilla is designing a culture that fuels performance\, resilience\, and belonging inside a fast-moving Series B company
URL:https://vds.tech/event/scaling-with-soul-how-culture-powers-growth-in-climate-tech/
LOCATION:Santander Stage
CATEGORIES:Santander Stage
ORGANIZER;CN="Vanessa Monsequeira":MAILTO:nessmonsequeira@gmail.com
END:VEVENT
BEGIN:VEVENT
DTSTART;TZID=Europe/Madrid:20251022T173000
DTEND;TZID=Europe/Madrid:20251022T180000
DTSTAMP:20260422T131845
CREATED:20240926T103848Z
LAST-MODIFIED:20251023T070258Z
UID:31371-1761154200-1761156000@vds.tech
SUMMARY:From Two Wheels to Eighteen: The Future of Electric & Autonomous Mobility
DESCRIPTION:This panel brings together founders and investors to discuss the progress and challenges of electric and autonomous vehicles hitting the city roads. What is a reality\, and what lays ahead?
URL:https://vds.tech/event/from-two-wheels-to-eighteen-the-future-of-electric-autonomous-mobility/
LOCATION:Santander Stage
CATEGORIES:Santander Stage
ORGANIZER;CN="Thomas Hubregtsen":MAILTO:tom@voltrac.eu
END:VEVENT
END:VCALENDAR