BEGIN:VCALENDAR
VERSION:2.0
PRODID:-//VDS - ECPv6.15.20//NONSGML v1.0//EN
CALSCALE:GREGORIAN
METHOD:PUBLISH
X-WR-CALNAME:VDS
X-ORIGINAL-URL:https://vds.tech
X-WR-CALDESC:Events for VDS
REFRESH-INTERVAL;VALUE=DURATION:PT1H
X-Robots-Tag:noindex
X-PUBLISHED-TTL:PT1H
BEGIN:VTIMEZONE
TZID:Europe/Madrid
BEGIN:DAYLIGHT
TZOFFSETFROM:+0100
TZOFFSETTO:+0200
TZNAME:CEST
DTSTART:20240331T010000
END:DAYLIGHT
BEGIN:STANDARD
TZOFFSETFROM:+0200
TZOFFSETTO:+0100
TZNAME:CET
DTSTART:20241027T010000
END:STANDARD
BEGIN:DAYLIGHT
TZOFFSETFROM:+0100
TZOFFSETTO:+0200
TZNAME:CEST
DTSTART:20250330T010000
END:DAYLIGHT
BEGIN:STANDARD
TZOFFSETFROM:+0200
TZOFFSETTO:+0100
TZNAME:CET
DTSTART:20251026T010000
END:STANDARD
BEGIN:DAYLIGHT
TZOFFSETFROM:+0100
TZOFFSETTO:+0200
TZNAME:CEST
DTSTART:20260329T010000
END:DAYLIGHT
BEGIN:STANDARD
TZOFFSETFROM:+0200
TZOFFSETTO:+0100
TZNAME:CET
DTSTART:20261025T010000
END:STANDARD
END:VTIMEZONE
BEGIN:VEVENT
DTSTART;TZID=Europe/Madrid:20251023T120000
DTEND;TZID=Europe/Madrid:20251023T122000
DTSTAMP:20260422T141158
CREATED:20250919T072909Z
LAST-MODIFIED:20251023T070304Z
UID:47717-1761220800-1761222000@vds.tech
SUMMARY:AI Solutions for Business Process Re-Engineering
DESCRIPTION:Join our roundtable\, AI Solutions for Business Process Re-engineering\, for a deep dive into the next wave of corporate efficiency. This session features three visionary founders and CEOs from leading AI startups. Discover how they are building cutting-edge solutions to automate\, optimize\, and completely transform core business processes across diverse areas—from marketing and sales to finance and operations. Learn firsthand how these innovators are moving beyond the hype to deliver tangible AI-driven value and reshaping the future of enterprise
URL:https://vds.tech/event/ai-solutions-for-business-process-re-engineering/
LOCATION:Discovery Stage
CATEGORIES:Discovery Stage
ORGANIZER;CN="Alvaro Mancilla":MAILTO:alvaro@bankflip.io
END:VEVENT
END:VCALENDAR