BEGIN:VCALENDAR
VERSION:2.0
PRODID:-//VDS - ECPv6.15.20//NONSGML v1.0//EN
CALSCALE:GREGORIAN
METHOD:PUBLISH
X-WR-CALNAME:VDS
X-ORIGINAL-URL:https://vds.tech
X-WR-CALDESC:Events for VDS
REFRESH-INTERVAL;VALUE=DURATION:PT1H
X-Robots-Tag:noindex
X-PUBLISHED-TTL:PT1H
BEGIN:VTIMEZONE
TZID:Europe/Madrid
BEGIN:DAYLIGHT
TZOFFSETFROM:+0100
TZOFFSETTO:+0200
TZNAME:CEST
DTSTART:20240331T010000
END:DAYLIGHT
BEGIN:STANDARD
TZOFFSETFROM:+0200
TZOFFSETTO:+0100
TZNAME:CET
DTSTART:20241027T010000
END:STANDARD
BEGIN:DAYLIGHT
TZOFFSETFROM:+0100
TZOFFSETTO:+0200
TZNAME:CEST
DTSTART:20250330T010000
END:DAYLIGHT
BEGIN:STANDARD
TZOFFSETFROM:+0200
TZOFFSETTO:+0100
TZNAME:CET
DTSTART:20251026T010000
END:STANDARD
BEGIN:DAYLIGHT
TZOFFSETFROM:+0100
TZOFFSETTO:+0200
TZNAME:CEST
DTSTART:20260329T010000
END:DAYLIGHT
BEGIN:STANDARD
TZOFFSETFROM:+0200
TZOFFSETTO:+0100
TZNAME:CET
DTSTART:20261025T010000
END:STANDARD
END:VTIMEZONE
BEGIN:VEVENT
DTSTART;TZID=Europe/Madrid:20251022T100000
DTEND;TZID=Europe/Madrid:20251022T103000
DTSTAMP:20260422T130858
CREATED:20241022T214558Z
LAST-MODIFIED:20251023T070115Z
UID:40243-1761127200-1761129000@vds.tech
SUMMARY:Beyond the Pipeline: Building Inclusive Hiring Strategies That Scale
DESCRIPTION:As tech companies expand across borders\, the challenge is hiring inclusively and equitably at scale. In this session\, Terence Guiamo\, Global Director of Inclusion\, Diversity & Belonging at Just Eat Takeaway.com\, and Anastasia Pshegodskaya\, Global Director of Talent Acquisition at Remote\, share how they’re rethinking recruitment for the future of work. From designing gender-balanced hiring strategies to building globally distributed teams\, this conversation explores what inclusive recruitment really means in a fast-growing tech environment.
URL:https://vds.tech/event/beyond-the-pipeline-building-inclusive-hiring-strategies-that-scale/
LOCATION:Santander Stage
CATEGORIES:Santander Stage
ORGANIZER;CN="Anastasia Pshegodskaya":MAILTO:anastasia@remote.com
END:VEVENT
END:VCALENDAR