BEGIN:VCALENDAR
VERSION:2.0
PRODID:-//VDS - ECPv6.15.20//NONSGML v1.0//EN
CALSCALE:GREGORIAN
METHOD:PUBLISH
X-WR-CALNAME:VDS
X-ORIGINAL-URL:https://vds.tech
X-WR-CALDESC:Events for VDS
REFRESH-INTERVAL;VALUE=DURATION:PT1H
X-Robots-Tag:noindex
X-PUBLISHED-TTL:PT1H
BEGIN:VTIMEZONE
TZID:Europe/Madrid
BEGIN:DAYLIGHT
TZOFFSETFROM:+0100
TZOFFSETTO:+0200
TZNAME:CEST
DTSTART:20240331T010000
END:DAYLIGHT
BEGIN:STANDARD
TZOFFSETFROM:+0200
TZOFFSETTO:+0100
TZNAME:CET
DTSTART:20241027T010000
END:STANDARD
BEGIN:DAYLIGHT
TZOFFSETFROM:+0100
TZOFFSETTO:+0200
TZNAME:CEST
DTSTART:20250330T010000
END:DAYLIGHT
BEGIN:STANDARD
TZOFFSETFROM:+0200
TZOFFSETTO:+0100
TZNAME:CET
DTSTART:20251026T010000
END:STANDARD
BEGIN:DAYLIGHT
TZOFFSETFROM:+0100
TZOFFSETTO:+0200
TZNAME:CEST
DTSTART:20260329T010000
END:DAYLIGHT
BEGIN:STANDARD
TZOFFSETFROM:+0200
TZOFFSETTO:+0100
TZNAME:CET
DTSTART:20261025T010000
END:STANDARD
END:VTIMEZONE
BEGIN:VEVENT
DTSTART;TZID=Europe/Madrid:20251022T150000
DTEND;TZID=Europe/Madrid:20251022T152000
DTSTAMP:20260422T131030
CREATED:20251017T195516Z
LAST-MODIFIED:20251023T070010Z
UID:62227-1761145200-1761146400@vds.tech
SUMMARY:Beyond War: How Cities Lead the Future of Resilience and Recovery
DESCRIPTION:War is not only fought on the front line — it is also fought in hospitals\, in communities\, in infrastructure\, and in the spirit of cities.\nFrom the heart of Ukraine\, the city of Lviv has become a global symbol of resilience\, innovation and hope. \nIn this keynote\, Serhii Kiral\, Deputy Mayor for International Cooperation of Lviv\, will present UNBROKEN\, an international network of cities and institutions working together to: \nRebuild lives through physical and psychological rehabilitation \nDevelop resilient urban infrastructure and services in times of crisis \nFoster international cooperation and knowledge sharing \nDrive innovation in health\, technology\, social support and governance \nDefend the values of freedom\, dignity and democracy through city leadership \nUNBROKEN is more than a recovery initiative — it is a new global movement where cities stand together\, support each other\, and build a future where no community faces disaster alone. \nThis is a call to action: join the alliance of cities shaping the future of resilience.
URL:https://vds.tech/event/beyond-war-how-cities-lead-the-future-of-resilience-and-recovery/
LOCATION:Main Stage
CATEGORIES:Main Stage
ORGANIZER;CN="Serhii Kiral":MAILTO:kirall@yahoo.com
END:VEVENT
END:VCALENDAR