BEGIN:VCALENDAR
VERSION:2.0
PRODID:-//VDS - ECPv6.15.20//NONSGML v1.0//EN
CALSCALE:GREGORIAN
METHOD:PUBLISH
X-WR-CALNAME:VDS
X-ORIGINAL-URL:https://vds.tech
X-WR-CALDESC:Events for VDS
REFRESH-INTERVAL;VALUE=DURATION:PT1H
X-Robots-Tag:noindex
X-PUBLISHED-TTL:PT1H
BEGIN:VTIMEZONE
TZID:Europe/Madrid
BEGIN:DAYLIGHT
TZOFFSETFROM:+0100
TZOFFSETTO:+0200
TZNAME:CEST
DTSTART:20240331T010000
END:DAYLIGHT
BEGIN:STANDARD
TZOFFSETFROM:+0200
TZOFFSETTO:+0100
TZNAME:CET
DTSTART:20241027T010000
END:STANDARD
BEGIN:DAYLIGHT
TZOFFSETFROM:+0100
TZOFFSETTO:+0200
TZNAME:CEST
DTSTART:20250330T010000
END:DAYLIGHT
BEGIN:STANDARD
TZOFFSETFROM:+0200
TZOFFSETTO:+0100
TZNAME:CET
DTSTART:20251026T010000
END:STANDARD
BEGIN:DAYLIGHT
TZOFFSETFROM:+0100
TZOFFSETTO:+0200
TZNAME:CEST
DTSTART:20260329T010000
END:DAYLIGHT
BEGIN:STANDARD
TZOFFSETFROM:+0200
TZOFFSETTO:+0100
TZNAME:CET
DTSTART:20261025T010000
END:STANDARD
END:VTIMEZONE
BEGIN:VEVENT
DTSTART;TZID=Europe/Madrid:20251022T120000
DTEND;TZID=Europe/Madrid:20251022T121500
DTSTAMP:20260422T131048
CREATED:20251008T084408Z
LAST-MODIFIED:20251023T070240Z
UID:51722-1761134400-1761135300@vds.tech
SUMMARY:Bridges of Innovation: University\, Business and Society Working Together
DESCRIPTION:
URL:https://vds.tech/event/bridges-of-innovation-university-business-and-society-working-together/
LOCATION:Innovation Stage
CATEGORIES:Innovation Stage
ORGANIZER;CN="Luc%C3%ADa Hip%C3%B3lito":MAILTO:lucia.hipolito+speaker@uv.es
END:VEVENT
END:VCALENDAR