BEGIN:VCALENDAR
VERSION:2.0
PRODID:-//VDS - ECPv6.15.20//NONSGML v1.0//EN
CALSCALE:GREGORIAN
METHOD:PUBLISH
X-WR-CALNAME:VDS
X-ORIGINAL-URL:https://vds.tech
X-WR-CALDESC:Events for VDS
REFRESH-INTERVAL;VALUE=DURATION:PT1H
X-Robots-Tag:noindex
X-PUBLISHED-TTL:PT1H
BEGIN:VTIMEZONE
TZID:Europe/Madrid
BEGIN:DAYLIGHT
TZOFFSETFROM:+0100
TZOFFSETTO:+0200
TZNAME:CEST
DTSTART:20240331T010000
END:DAYLIGHT
BEGIN:STANDARD
TZOFFSETFROM:+0200
TZOFFSETTO:+0100
TZNAME:CET
DTSTART:20241027T010000
END:STANDARD
BEGIN:DAYLIGHT
TZOFFSETFROM:+0100
TZOFFSETTO:+0200
TZNAME:CEST
DTSTART:20250330T010000
END:DAYLIGHT
BEGIN:STANDARD
TZOFFSETFROM:+0200
TZOFFSETTO:+0100
TZNAME:CET
DTSTART:20251026T010000
END:STANDARD
BEGIN:DAYLIGHT
TZOFFSETFROM:+0100
TZOFFSETTO:+0200
TZNAME:CEST
DTSTART:20260329T010000
END:DAYLIGHT
BEGIN:STANDARD
TZOFFSETFROM:+0200
TZOFFSETTO:+0100
TZNAME:CET
DTSTART:20261025T010000
END:STANDARD
END:VTIMEZONE
BEGIN:VEVENT
DTSTART;TZID=Europe/Madrid:20251022T114500
DTEND;TZID=Europe/Madrid:20251022T120000
DTSTAMP:20260422T130541
CREATED:20251010T121307Z
LAST-MODIFIED:20251023T070303Z
UID:53347-1761133500-1761134400@vds.tech
SUMMARY:Closing Deeptech Forum
DESCRIPTION:The Closing Deeptech Forum\, organized by Innvierte (CDTI)\, is a key event that brings together deeptech startups\, investors\, and corporations to foster tech transfer and investment in disruptive innovation. The forum serves as a year-end meeting point for networking\, showcasing success stories\, and exploring key trends in the deeptech ecosystem.
URL:https://vds.tech/event/closing-deeptech-forum/
LOCATION:Future Stage
CATEGORIES:Future Stage
ORGANIZER;CN="Jos%C3%A9 Mart%C3%ADn":MAILTO:dg@cdti.es
END:VEVENT
END:VCALENDAR