BEGIN:VCALENDAR
VERSION:2.0
PRODID:-//VDS - ECPv6.15.20//NONSGML v1.0//EN
CALSCALE:GREGORIAN
METHOD:PUBLISH
X-WR-CALNAME:VDS
X-ORIGINAL-URL:https://vds.tech
X-WR-CALDESC:Events for VDS
REFRESH-INTERVAL;VALUE=DURATION:PT1H
X-Robots-Tag:noindex
X-PUBLISHED-TTL:PT1H
BEGIN:VTIMEZONE
TZID:Europe/Madrid
BEGIN:DAYLIGHT
TZOFFSETFROM:+0100
TZOFFSETTO:+0200
TZNAME:CEST
DTSTART:20240331T010000
END:DAYLIGHT
BEGIN:STANDARD
TZOFFSETFROM:+0200
TZOFFSETTO:+0100
TZNAME:CET
DTSTART:20241027T010000
END:STANDARD
BEGIN:DAYLIGHT
TZOFFSETFROM:+0100
TZOFFSETTO:+0200
TZNAME:CEST
DTSTART:20250330T010000
END:DAYLIGHT
BEGIN:STANDARD
TZOFFSETFROM:+0200
TZOFFSETTO:+0100
TZNAME:CET
DTSTART:20251026T010000
END:STANDARD
BEGIN:DAYLIGHT
TZOFFSETFROM:+0100
TZOFFSETTO:+0200
TZNAME:CEST
DTSTART:20260329T010000
END:DAYLIGHT
BEGIN:STANDARD
TZOFFSETFROM:+0200
TZOFFSETTO:+0100
TZNAME:CET
DTSTART:20261025T010000
END:STANDARD
END:VTIMEZONE
BEGIN:VEVENT
DTSTART;TZID=Europe/Madrid:20251023T124000
DTEND;TZID=Europe/Madrid:20251023T130000
DTSTAMP:20260422T141340
CREATED:20251017T063237Z
LAST-MODIFIED:20251023T070310Z
UID:59179-1761223200-1761224400@vds.tech
SUMMARY:Co-Development with Startups: Organizational Structure\, Right Stakeholders\, and Challenges
DESCRIPTION:How many innovations\, game changer ones\, have you launched recently?. Are startups involved in any of those? \nThrough this round table we want to explore and debate around the “right” structure to increase the output of innovations and when we need startups for that.
URL:https://vds.tech/event/co-development-with-startups-organizational-structure-right-stakeholders-and-challenges/
LOCATION:Discovery Stage
CATEGORIES:Discovery Stage
ORGANIZER;CN="Nicolas Garrido":MAILTO:nicolas.garrido@ivirma.com
END:VEVENT
END:VCALENDAR