BEGIN:VCALENDAR
VERSION:2.0
PRODID:-//VDS - ECPv6.15.20//NONSGML v1.0//EN
CALSCALE:GREGORIAN
METHOD:PUBLISH
X-WR-CALNAME:VDS
X-ORIGINAL-URL:https://vds.tech
X-WR-CALDESC:Events for VDS
REFRESH-INTERVAL;VALUE=DURATION:PT1H
X-Robots-Tag:noindex
X-PUBLISHED-TTL:PT1H
BEGIN:VTIMEZONE
TZID:Europe/Madrid
BEGIN:DAYLIGHT
TZOFFSETFROM:+0100
TZOFFSETTO:+0200
TZNAME:CEST
DTSTART:20240331T010000
END:DAYLIGHT
BEGIN:STANDARD
TZOFFSETFROM:+0200
TZOFFSETTO:+0100
TZNAME:CET
DTSTART:20241027T010000
END:STANDARD
BEGIN:DAYLIGHT
TZOFFSETFROM:+0100
TZOFFSETTO:+0200
TZNAME:CEST
DTSTART:20250330T010000
END:DAYLIGHT
BEGIN:STANDARD
TZOFFSETFROM:+0200
TZOFFSETTO:+0100
TZNAME:CET
DTSTART:20251026T010000
END:STANDARD
BEGIN:DAYLIGHT
TZOFFSETFROM:+0100
TZOFFSETTO:+0200
TZNAME:CEST
DTSTART:20260329T010000
END:DAYLIGHT
BEGIN:STANDARD
TZOFFSETFROM:+0200
TZOFFSETTO:+0100
TZNAME:CET
DTSTART:20261025T010000
END:STANDARD
END:VTIMEZONE
BEGIN:VEVENT
DTSTART;TZID=Europe/Madrid:20251022T104000
DTEND;TZID=Europe/Madrid:20251022T110000
DTSTAMP:20260422T130854
CREATED:20250919T072731Z
LAST-MODIFIED:20251023T070121Z
UID:47536-1761129600-1761130800@vds.tech
SUMMARY:Dream Big\, Scale Fast & Reinvest Your Success
DESCRIPTION:This session brings together two standout entrepreneurs who not only built hugely successful companies\, but also embody the spirit of giving back. We’ll dive into their journeys of dreaming big and scaling fast\, but more importantly\, into the multiplier effect of their success. \nPablo Fernández and Sergio Furio  are not only visionary founders—they are also active mentors and investors with a deep commitment to supporting the next generation of entrepreneurs. \nWe’ll explore how success becomes even more powerful when it’s reinvested into the ecosystem\, and what it means to be a founder who lifts others while continuing to build.
URL:https://vds.tech/event/dream-big-scale-fast-reinvest-your-success/
LOCATION:Main Stage
CATEGORIES:Main Stage
ORGANIZER;CN="Sergio Furio":MAILTO:sergio.furio@gmail.com
END:VEVENT
END:VCALENDAR