BEGIN:VCALENDAR
VERSION:2.0
PRODID:-//VDS - ECPv6.15.20//NONSGML v1.0//EN
CALSCALE:GREGORIAN
METHOD:PUBLISH
X-WR-CALNAME:VDS
X-ORIGINAL-URL:https://vds.tech
X-WR-CALDESC:Events for VDS
REFRESH-INTERVAL;VALUE=DURATION:PT1H
X-Robots-Tag:noindex
X-PUBLISHED-TTL:PT1H
BEGIN:VTIMEZONE
TZID:Europe/Madrid
BEGIN:DAYLIGHT
TZOFFSETFROM:+0100
TZOFFSETTO:+0200
TZNAME:CEST
DTSTART:20240331T010000
END:DAYLIGHT
BEGIN:STANDARD
TZOFFSETFROM:+0200
TZOFFSETTO:+0100
TZNAME:CET
DTSTART:20241027T010000
END:STANDARD
BEGIN:DAYLIGHT
TZOFFSETFROM:+0100
TZOFFSETTO:+0200
TZNAME:CEST
DTSTART:20250330T010000
END:DAYLIGHT
BEGIN:STANDARD
TZOFFSETFROM:+0200
TZOFFSETTO:+0100
TZNAME:CET
DTSTART:20251026T010000
END:STANDARD
BEGIN:DAYLIGHT
TZOFFSETFROM:+0100
TZOFFSETTO:+0200
TZNAME:CEST
DTSTART:20260329T010000
END:DAYLIGHT
BEGIN:STANDARD
TZOFFSETFROM:+0200
TZOFFSETTO:+0100
TZNAME:CET
DTSTART:20261025T010000
END:STANDARD
END:VTIMEZONE
BEGIN:VEVENT
DTSTART;TZID=Europe/Madrid:20251022T111500
DTEND;TZID=Europe/Madrid:20251022T114500
DTSTAMP:20260422T130620
CREATED:20241024T054432Z
LAST-MODIFIED:20251023T070202Z
UID:41026-1761131700-1761133500@vds.tech
SUMMARY:Engineering the Impossible: How Deeptech is Solving the Climate Crisis
DESCRIPTION:Fusion energy\, programmable biology\, carbon-mineralizing rocks\, climate-focused quantum computing\, and algorithms that can decarbonize global supply chains. This isn’t sci-fi — it’s deeptech. \nIn this session\, we bring together bold founders\, researchers and investors building technologies that take time\, science and resilience — but promise massive impact.  \nWe’ll explore how these breakthroughs are funded\, how they navigate the valley of death\, and how to build the next generation of climate unicorns from lab to market. \nThis is a conversation for those who don’t fear moonshots\, they invest in them.\nHow can deeptech startups scale in the face of the “hardware gap”? \nWhat are investors looking for when returns aren’t immediate but impact is massive? \nHow can science\, business\, and policy collaborate without slowing innovation?
URL:https://vds.tech/event/engineering-the-impossible-how-deeptech-is-solving-the-climate-crisis/
LOCATION:Future Stage
CATEGORIES:Future Stage
ORGANIZER;CN="Natalia Alvarez":MAILTO:natalia@deeptechalliance.org
END:VEVENT
END:VCALENDAR