BEGIN:VCALENDAR
VERSION:2.0
PRODID:-//VDS - ECPv6.15.20//NONSGML v1.0//EN
CALSCALE:GREGORIAN
METHOD:PUBLISH
X-WR-CALNAME:VDS
X-ORIGINAL-URL:https://vds.tech
X-WR-CALDESC:Events for VDS
REFRESH-INTERVAL;VALUE=DURATION:PT1H
X-Robots-Tag:noindex
X-PUBLISHED-TTL:PT1H
BEGIN:VTIMEZONE
TZID:Europe/Madrid
BEGIN:DAYLIGHT
TZOFFSETFROM:+0100
TZOFFSETTO:+0200
TZNAME:CEST
DTSTART:20240331T010000
END:DAYLIGHT
BEGIN:STANDARD
TZOFFSETFROM:+0200
TZOFFSETTO:+0100
TZNAME:CET
DTSTART:20241027T010000
END:STANDARD
BEGIN:DAYLIGHT
TZOFFSETFROM:+0100
TZOFFSETTO:+0200
TZNAME:CEST
DTSTART:20250330T010000
END:DAYLIGHT
BEGIN:STANDARD
TZOFFSETFROM:+0200
TZOFFSETTO:+0100
TZNAME:CET
DTSTART:20251026T010000
END:STANDARD
BEGIN:DAYLIGHT
TZOFFSETFROM:+0100
TZOFFSETTO:+0200
TZNAME:CEST
DTSTART:20260329T010000
END:DAYLIGHT
BEGIN:STANDARD
TZOFFSETFROM:+0200
TZOFFSETTO:+0100
TZNAME:CET
DTSTART:20261025T010000
END:STANDARD
END:VTIMEZONE
BEGIN:VEVENT
DTSTART;TZID=Europe/Madrid:20251022T125500
DTEND;TZID=Europe/Madrid:20251022T131500
DTSTAMP:20260422T130858
CREATED:20241014T152236Z
LAST-MODIFIED:20251023T070030Z
UID:37699-1761137700-1761138900@vds.tech
SUMMARY:European Chips Act 2.0 Priorities and challenges for a new semiconductor European framework.
DESCRIPTION:Although\, after nearly three years of implementation\, the European Chips Act has\nproven to be a useful tool for boosting the European semiconductor sector\, many\nobjectives linked to a genuine European microchip strategy remain unmet. Through\nclose collaboration between the industry and the European Commission\, the\nproposed approval of a European Chips Act 2.0 is generating enormous interest\namong the main players in the sector. The possibility of designing a new legal and\nfinancial framework for the microchip sector opens up significant opportunities\, but\nalso risks repeating some of the mistakes of previous initiatives in this field.
URL:https://vds.tech/event/european-chips-act-2-0-priorities-and-challenges-for-a-new-semiconductor-european-framework/
LOCATION:Santander Stage
CATEGORIES:Santander Stage
ORGANIZER;CN="Alfonso Gabarr%C3%B3n":MAILTO:a.gabarron11@gmail.com
END:VEVENT
END:VCALENDAR