BEGIN:VCALENDAR
VERSION:2.0
PRODID:-//VDS - ECPv6.15.20//NONSGML v1.0//EN
CALSCALE:GREGORIAN
METHOD:PUBLISH
X-WR-CALNAME:VDS
X-ORIGINAL-URL:https://vds.tech
X-WR-CALDESC:Events for VDS
REFRESH-INTERVAL;VALUE=DURATION:PT1H
X-Robots-Tag:noindex
X-PUBLISHED-TTL:PT1H
BEGIN:VTIMEZONE
TZID:Europe/Madrid
BEGIN:DAYLIGHT
TZOFFSETFROM:+0100
TZOFFSETTO:+0200
TZNAME:CEST
DTSTART:20240331T010000
END:DAYLIGHT
BEGIN:STANDARD
TZOFFSETFROM:+0200
TZOFFSETTO:+0100
TZNAME:CET
DTSTART:20241027T010000
END:STANDARD
BEGIN:DAYLIGHT
TZOFFSETFROM:+0100
TZOFFSETTO:+0200
TZNAME:CEST
DTSTART:20250330T010000
END:DAYLIGHT
BEGIN:STANDARD
TZOFFSETFROM:+0200
TZOFFSETTO:+0100
TZNAME:CET
DTSTART:20251026T010000
END:STANDARD
BEGIN:DAYLIGHT
TZOFFSETFROM:+0100
TZOFFSETTO:+0200
TZNAME:CEST
DTSTART:20260329T010000
END:DAYLIGHT
BEGIN:STANDARD
TZOFFSETFROM:+0200
TZOFFSETTO:+0100
TZNAME:CET
DTSTART:20261025T010000
END:STANDARD
END:VTIMEZONE
BEGIN:VEVENT
DTSTART;TZID=Europe/Madrid:20251022T124000
DTEND;TZID=Europe/Madrid:20251022T130000
DTSTAMP:20260422T130619
CREATED:20241003T173324Z
LAST-MODIFIED:20251023T070100Z
UID:35000-1761136800-1761138000@vds.tech
SUMMARY:Goodbye Smart City\, Hello Citiverse
DESCRIPTION:Over the past two decades\, smart city efforts produced valuable insights but also widespread “death by pilot\,” with stalled projects\, immature markets\, and solutions without real customers. Today\, urban innovation is shifting to citizen-centric strategies and leveraging emerging technologies that reach far beyond municipal efficiencies. The rise of the Citiverse is virtualizing cities and services end-to-end\, unlocking major business opportunities while demanding new partnerships and responsibilities. The key questions now are what comes next\, how to prepare\, and who will benefit.
URL:https://vds.tech/event/goodbye-smart-city-hello-citiverse/
LOCATION:Main Stage
CATEGORIES:Main Stage
ORGANIZER;CN="Bas Boorsma":MAILTO:bas.boorsma@urbaninnovators.global
END:VEVENT
END:VCALENDAR