BEGIN:VCALENDAR
VERSION:2.0
PRODID:-//VDS - ECPv6.15.20//NONSGML v1.0//EN
CALSCALE:GREGORIAN
METHOD:PUBLISH
X-WR-CALNAME:VDS
X-ORIGINAL-URL:https://vds.tech
X-WR-CALDESC:Events for VDS
REFRESH-INTERVAL;VALUE=DURATION:PT1H
X-Robots-Tag:noindex
X-PUBLISHED-TTL:PT1H
BEGIN:VTIMEZONE
TZID:Europe/Madrid
BEGIN:DAYLIGHT
TZOFFSETFROM:+0100
TZOFFSETTO:+0200
TZNAME:CEST
DTSTART:20240331T010000
END:DAYLIGHT
BEGIN:STANDARD
TZOFFSETFROM:+0200
TZOFFSETTO:+0100
TZNAME:CET
DTSTART:20241027T010000
END:STANDARD
BEGIN:DAYLIGHT
TZOFFSETFROM:+0100
TZOFFSETTO:+0200
TZNAME:CEST
DTSTART:20250330T010000
END:DAYLIGHT
BEGIN:STANDARD
TZOFFSETFROM:+0200
TZOFFSETTO:+0100
TZNAME:CET
DTSTART:20251026T010000
END:STANDARD
BEGIN:DAYLIGHT
TZOFFSETFROM:+0100
TZOFFSETTO:+0200
TZNAME:CEST
DTSTART:20260329T010000
END:DAYLIGHT
BEGIN:STANDARD
TZOFFSETFROM:+0200
TZOFFSETTO:+0100
TZNAME:CET
DTSTART:20261025T010000
END:STANDARD
END:VTIMEZONE
BEGIN:VEVENT
DTSTART;TZID=Europe/Madrid:20251022T152000
DTEND;TZID=Europe/Madrid:20251022T154000
DTSTAMP:20260422T130751
CREATED:20250924T100540Z
LAST-MODIFIED:20251023T070217Z
UID:49303-1761146400-1761147600@vds.tech
SUMMARY:Next-Gen Sports Tech: How Data & AI Are Transforming Performance & Fan Experience
DESCRIPTION:Twenty-first century sports are being redesigned by technology. Artificial intelligence\, advanced sensing\, and data analytics have penetrated every level—from physical preparation to spectator experience. In the competitive realm\, performance analytics solutions allow personalized training\, injury prevention\, and scenario modeling with previously unthinkable precision. On the other hand\, the fan experience has become an interactive narrative: augmented reality\, immersive content\, personalized stats\, and gamified formats deepen emotional ties with teams.\nThis dual impact—technical and experiential—makes sports one of the most dynamic sectors for applied innovation. Startups\, leagues\, clubs\, and investors are betting on solutions that merge entertainment\, data science\, and engagement with a global community.
URL:https://vds.tech/event/next-gen-sports-tech-how-data-ai-are-transforming-performance-fan-experience/
LOCATION:Santander Stage
CATEGORIES:Santander Stage
ORGANIZER;CN="Victor Garcia":MAILTO:vic@ybvr.com
END:VEVENT
END:VCALENDAR