BEGIN:VCALENDAR
VERSION:2.0
PRODID:-//VDS - ECPv6.15.20//NONSGML v1.0//EN
CALSCALE:GREGORIAN
METHOD:PUBLISH
X-WR-CALNAME:VDS
X-ORIGINAL-URL:https://vds.tech
X-WR-CALDESC:Events for VDS
REFRESH-INTERVAL;VALUE=DURATION:PT1H
X-Robots-Tag:noindex
X-PUBLISHED-TTL:PT1H
BEGIN:VTIMEZONE
TZID:Europe/Madrid
BEGIN:DAYLIGHT
TZOFFSETFROM:+0100
TZOFFSETTO:+0200
TZNAME:CEST
DTSTART:20240331T010000
END:DAYLIGHT
BEGIN:STANDARD
TZOFFSETFROM:+0200
TZOFFSETTO:+0100
TZNAME:CET
DTSTART:20241027T010000
END:STANDARD
BEGIN:DAYLIGHT
TZOFFSETFROM:+0100
TZOFFSETTO:+0200
TZNAME:CEST
DTSTART:20250330T010000
END:DAYLIGHT
BEGIN:STANDARD
TZOFFSETFROM:+0200
TZOFFSETTO:+0100
TZNAME:CET
DTSTART:20251026T010000
END:STANDARD
BEGIN:DAYLIGHT
TZOFFSETFROM:+0100
TZOFFSETTO:+0200
TZNAME:CEST
DTSTART:20260329T010000
END:DAYLIGHT
BEGIN:STANDARD
TZOFFSETFROM:+0200
TZOFFSETTO:+0100
TZNAME:CET
DTSTART:20261025T010000
END:STANDARD
END:VTIMEZONE
BEGIN:VEVENT
DTSTART;TZID=Europe/Madrid:20251022T103000
DTEND;TZID=Europe/Madrid:20251022T110000
DTSTAMP:20260422T130639
CREATED:20240926T103820Z
LAST-MODIFIED:20251023T070009Z
UID:31101-1761129000-1761130800@vds.tech
SUMMARY:Open Urban Platform: For Smart Citizen Centric Cities
DESCRIPTION:Collaboration is key to unlocking the power of data in Europe — but complexity has held cities back. European Dataspaces offer huge potential\, yet most solutions remain too technical and costly. This panel will discuss how Open Urban Platform changes that with an accessible\, affordable approach to smarter\, citizen-focused cities. Because\, the challenge isn’t tech — it’s working together.
URL:https://vds.tech/event/open-urban-platform-for-smart-citizen-centric-cities/
LOCATION:Santander Stage
CATEGORIES:Santander Stage
ORGANIZER;CN="Albert Engels":MAILTO:afrm.engels@rotterdam.nl
END:VEVENT
END:VCALENDAR