BEGIN:VCALENDAR
VERSION:2.0
PRODID:-//VDS - ECPv6.15.20//NONSGML v1.0//EN
CALSCALE:GREGORIAN
METHOD:PUBLISH
X-WR-CALNAME:VDS
X-ORIGINAL-URL:https://vds.tech
X-WR-CALDESC:Events for VDS
REFRESH-INTERVAL;VALUE=DURATION:PT1H
X-Robots-Tag:noindex
X-PUBLISHED-TTL:PT1H
BEGIN:VTIMEZONE
TZID:Europe/Madrid
BEGIN:DAYLIGHT
TZOFFSETFROM:+0100
TZOFFSETTO:+0200
TZNAME:CEST
DTSTART:20240331T010000
END:DAYLIGHT
BEGIN:STANDARD
TZOFFSETFROM:+0200
TZOFFSETTO:+0100
TZNAME:CET
DTSTART:20241027T010000
END:STANDARD
BEGIN:DAYLIGHT
TZOFFSETFROM:+0100
TZOFFSETTO:+0200
TZNAME:CEST
DTSTART:20250330T010000
END:DAYLIGHT
BEGIN:STANDARD
TZOFFSETFROM:+0200
TZOFFSETTO:+0100
TZNAME:CET
DTSTART:20251026T010000
END:STANDARD
BEGIN:DAYLIGHT
TZOFFSETFROM:+0100
TZOFFSETTO:+0200
TZNAME:CEST
DTSTART:20260329T010000
END:DAYLIGHT
BEGIN:STANDARD
TZOFFSETFROM:+0200
TZOFFSETTO:+0100
TZNAME:CET
DTSTART:20261025T010000
END:STANDARD
END:VTIMEZONE
BEGIN:VEVENT
DTSTART;TZID=Europe/Madrid:20251022T102000
DTEND;TZID=Europe/Madrid:20251022T104000
DTSTAMP:20260422T131136
CREATED:20251014T155847Z
LAST-MODIFIED:20251023T070300Z
UID:56612-1761128400-1761129600@vds.tech
SUMMARY:Performing Under Pressure: The Hidden Power of Psychological Safety
DESCRIPTION:In today’s fast-paced world\, professionals across industries face constant pressure to deliver\, adapt\, and innovate. But when people don’t feel safe to speak up\, challenge ideas\, or admit mistakes\, performance and creativity suffer\, no matter the company or team. This interactive 20-minute session is designed for leaders\, team members\, and changemakers from any background who want to understand how to create environments where bold ideas and honest conversations thrive\, even under pressure.
URL:https://vds.tech/event/performing-under-pressure-the-hidden-power-of-psychological-safety/
LOCATION:Workshop Room
CATEGORIES:Workshop Room
ORGANIZER;CN="Ania Hajdrowska":MAILTO:ania.hajdrowska@gmail.com
END:VEVENT
END:VCALENDAR