BEGIN:VCALENDAR
VERSION:2.0
PRODID:-//VDS - ECPv6.15.20//NONSGML v1.0//EN
CALSCALE:GREGORIAN
METHOD:PUBLISH
X-WR-CALNAME:VDS
X-ORIGINAL-URL:https://vds.tech
X-WR-CALDESC:Events for VDS
REFRESH-INTERVAL;VALUE=DURATION:PT1H
X-Robots-Tag:noindex
X-PUBLISHED-TTL:PT1H
BEGIN:VTIMEZONE
TZID:Europe/Madrid
BEGIN:DAYLIGHT
TZOFFSETFROM:+0100
TZOFFSETTO:+0200
TZNAME:CEST
DTSTART:20240331T010000
END:DAYLIGHT
BEGIN:STANDARD
TZOFFSETFROM:+0200
TZOFFSETTO:+0100
TZNAME:CET
DTSTART:20241027T010000
END:STANDARD
BEGIN:DAYLIGHT
TZOFFSETFROM:+0100
TZOFFSETTO:+0200
TZNAME:CEST
DTSTART:20250330T010000
END:DAYLIGHT
BEGIN:STANDARD
TZOFFSETFROM:+0200
TZOFFSETTO:+0100
TZNAME:CET
DTSTART:20251026T010000
END:STANDARD
BEGIN:DAYLIGHT
TZOFFSETFROM:+0100
TZOFFSETTO:+0200
TZNAME:CEST
DTSTART:20260329T010000
END:DAYLIGHT
BEGIN:STANDARD
TZOFFSETFROM:+0200
TZOFFSETTO:+0100
TZNAME:CET
DTSTART:20261025T010000
END:STANDARD
END:VTIMEZONE
BEGIN:VEVENT
DTSTART;TZID=Europe/Madrid:20251022T130000
DTEND;TZID=Europe/Madrid:20251022T133000
DTSTAMP:20260422T130651
CREATED:20240927T112312Z
LAST-MODIFIED:20251023T070246Z
UID:32578-1761138000-1761139800@vds.tech
SUMMARY:Progress\, Impact & The Future of Inclusive Tech
DESCRIPTION:Launch of the 2025 State of DEI in European Tech report. Executive leaders share how DEI metrics are driving product strategy\, talent retention\, and board-level decisions. Inclusion is no longer a “nice to have”—it’s a business differentiator.
URL:https://vds.tech/event/progress-impact-the-future-of-inclusive-tech/
LOCATION:Main Stage
CATEGORIES:Main Stage
ORGANIZER;CN="Ella McCann-Tomlin":MAILTO:ella.mccann-tomlin@mews.com
END:VEVENT
END:VCALENDAR