BEGIN:VCALENDAR
VERSION:2.0
PRODID:-//VDS - ECPv6.15.20//NONSGML v1.0//EN
CALSCALE:GREGORIAN
METHOD:PUBLISH
X-WR-CALNAME:VDS
X-ORIGINAL-URL:https://vds.tech
X-WR-CALDESC:Events for VDS
REFRESH-INTERVAL;VALUE=DURATION:PT1H
X-Robots-Tag:noindex
X-PUBLISHED-TTL:PT1H
BEGIN:VTIMEZONE
TZID:Europe/Madrid
BEGIN:DAYLIGHT
TZOFFSETFROM:+0100
TZOFFSETTO:+0200
TZNAME:CEST
DTSTART:20240331T010000
END:DAYLIGHT
BEGIN:STANDARD
TZOFFSETFROM:+0200
TZOFFSETTO:+0100
TZNAME:CET
DTSTART:20241027T010000
END:STANDARD
BEGIN:DAYLIGHT
TZOFFSETFROM:+0100
TZOFFSETTO:+0200
TZNAME:CEST
DTSTART:20250330T010000
END:DAYLIGHT
BEGIN:STANDARD
TZOFFSETFROM:+0200
TZOFFSETTO:+0100
TZNAME:CET
DTSTART:20251026T010000
END:STANDARD
BEGIN:DAYLIGHT
TZOFFSETFROM:+0100
TZOFFSETTO:+0200
TZNAME:CEST
DTSTART:20260329T010000
END:DAYLIGHT
BEGIN:STANDARD
TZOFFSETFROM:+0200
TZOFFSETTO:+0100
TZNAME:CET
DTSTART:20261025T010000
END:STANDARD
END:VTIMEZONE
BEGIN:VEVENT
DTSTART;TZID=Europe/Madrid:20251022T154000
DTEND;TZID=Europe/Madrid:20251022T160000
DTSTAMP:20260422T130854
CREATED:20240926T103826Z
LAST-MODIFIED:20251023T070056Z
UID:31160-1761147600-1761148800@vds.tech
SUMMARY:Queer Capital: Betting on Identity to Build the Future
DESCRIPTION:What happens when you stop pattern-matching and start backing boldness? In this provocative session\, Sam Eshrati—Venture Partner of Identity.VC\, Europe’s first VC dedicated to LGBTQ+ founders—makes the case for queer capital as an engine of innovation. From fashion to fintech\, queer entrepreneurs have always challenged the status quo. Now\, investors are waking up to the value of lived experience\, inclusive leadership\, and culture-first strategies in building high-growth ventures. This conversation redefines risk\, reframes talent\, and reveals how investing in identity isn’t just inclusive—it’s smart business.
URL:https://vds.tech/event/queer-capital-betting-on-identity-to-build-the-future/
LOCATION:Santander Stage
CATEGORIES:Santander Stage
ORGANIZER;CN="Sam Eshrati":MAILTO:sa.eshrati@gmail.com
END:VEVENT
END:VCALENDAR