BEGIN:VCALENDAR
VERSION:2.0
PRODID:-//VDS - ECPv6.15.20//NONSGML v1.0//EN
CALSCALE:GREGORIAN
METHOD:PUBLISH
X-WR-CALNAME:VDS
X-ORIGINAL-URL:https://vds.tech
X-WR-CALDESC:Events for VDS
REFRESH-INTERVAL;VALUE=DURATION:PT1H
X-Robots-Tag:noindex
X-PUBLISHED-TTL:PT1H
BEGIN:VTIMEZONE
TZID:Europe/Madrid
BEGIN:DAYLIGHT
TZOFFSETFROM:+0100
TZOFFSETTO:+0200
TZNAME:CEST
DTSTART:20240331T010000
END:DAYLIGHT
BEGIN:STANDARD
TZOFFSETFROM:+0200
TZOFFSETTO:+0100
TZNAME:CET
DTSTART:20241027T010000
END:STANDARD
BEGIN:DAYLIGHT
TZOFFSETFROM:+0100
TZOFFSETTO:+0200
TZNAME:CEST
DTSTART:20250330T010000
END:DAYLIGHT
BEGIN:STANDARD
TZOFFSETFROM:+0200
TZOFFSETTO:+0100
TZNAME:CET
DTSTART:20251026T010000
END:STANDARD
BEGIN:DAYLIGHT
TZOFFSETFROM:+0100
TZOFFSETTO:+0200
TZNAME:CEST
DTSTART:20260329T010000
END:DAYLIGHT
BEGIN:STANDARD
TZOFFSETFROM:+0200
TZOFFSETTO:+0100
TZNAME:CET
DTSTART:20261025T010000
END:STANDARD
END:VTIMEZONE
BEGIN:VEVENT
DTSTART;TZID=Europe/Madrid:20251022T114500
DTEND;TZID=Europe/Madrid:20251022T120000
DTSTAMP:20260422T131238
CREATED:20251008T084205Z
LAST-MODIFIED:20251023T070038Z
UID:51630-1761133500-1761134400@vds.tech
SUMMARY:Rehumanizing Leadership in the Age of AI: Why Your Story Is the Edge
DESCRIPTION:As AI accelerates faster than human adaptation\, many leaders feel the growing gap between optimization and meaning. In this talk\, Celinne Da Costa — executive coach\, brand story strategist\, TEDx speaker\, and trusted advisor to global leaders — reveals why authentic storytelling is the most overlooked competitive edge of our time. Drawing on a decade of coaching founders and executives through identity shifts\, she will show how story can rehumanize leadership\, restore trust\, and provide the compass leaders need to navigate disruption without losing themselves.
URL:https://vds.tech/event/rehumanizing-leadership-in-the-age-of-ai-why-your-story-is-the-edge/
LOCATION:Workshop Room
CATEGORIES:Workshop Room
ORGANIZER;CN="Celinne Da Costa":MAILTO:celinnedacosta@gmail.com
END:VEVENT
END:VCALENDAR