BEGIN:VCALENDAR
VERSION:2.0
PRODID:-//VDS - ECPv6.15.20//NONSGML v1.0//EN
CALSCALE:GREGORIAN
METHOD:PUBLISH
X-WR-CALNAME:VDS
X-ORIGINAL-URL:https://vds.tech
X-WR-CALDESC:Events for VDS
REFRESH-INTERVAL;VALUE=DURATION:PT1H
X-Robots-Tag:noindex
X-PUBLISHED-TTL:PT1H
BEGIN:VTIMEZONE
TZID:Europe/Madrid
BEGIN:DAYLIGHT
TZOFFSETFROM:+0100
TZOFFSETTO:+0200
TZNAME:CEST
DTSTART:20240331T010000
END:DAYLIGHT
BEGIN:STANDARD
TZOFFSETFROM:+0200
TZOFFSETTO:+0100
TZNAME:CET
DTSTART:20241027T010000
END:STANDARD
BEGIN:DAYLIGHT
TZOFFSETFROM:+0100
TZOFFSETTO:+0200
TZNAME:CEST
DTSTART:20250330T010000
END:DAYLIGHT
BEGIN:STANDARD
TZOFFSETFROM:+0200
TZOFFSETTO:+0100
TZNAME:CET
DTSTART:20251026T010000
END:STANDARD
BEGIN:DAYLIGHT
TZOFFSETFROM:+0100
TZOFFSETTO:+0200
TZNAME:CEST
DTSTART:20260329T010000
END:DAYLIGHT
BEGIN:STANDARD
TZOFFSETFROM:+0200
TZOFFSETTO:+0100
TZNAME:CET
DTSTART:20261025T010000
END:STANDARD
END:VTIMEZONE
BEGIN:VEVENT
DTSTART;TZID=Europe/Madrid:20251022T154000
DTEND;TZID=Europe/Madrid:20251022T160000
DTSTAMP:20260422T131025
CREATED:20251017T165638Z
LAST-MODIFIED:20251023T070024Z
UID:61703-1761147600-1761148800@vds.tech
SUMMARY:Scaling Across Borders: How to Successfully Lead Diverse Growth Teams in Multiple Markets
DESCRIPTION:Expanding across European markets means dealing with fundamentally different cultures\, regulations\, and customer expectations—not just translating your product into new languages. \nHeidrun Luyt has been navigating this reality while scaling Qonto from four to eight markets and growing a team of nearly 300 people across multiple functions. The complexity isn’t just in the numbers—it’s in getting Sales\, Acquisition\, Client Development\, Brand\, and Operations teams aligned when they’re spread across different countries with different ways of working. \nIn this fireside chat\, she’ll share the practical challenges of cross-cultural team scaling: how to balance local market needs with global strategy\, what actually works (and doesn’t) when building cross-functional alignment across borders\, and how commercial transformation looks different in practice than in theory.
URL:https://vds.tech/event/scaling-across-borders-how-to-successfully-lead-diverse-growth-teams-in-multiple-markets/
LOCATION:Main Stage
CATEGORIES:Main Stage
ORGANIZER;CN="Heidrun Luyt":MAILTO:robert.saborido@qonto.com
END:VEVENT
END:VCALENDAR