BEGIN:VCALENDAR
VERSION:2.0
PRODID:-//VDS - ECPv6.15.20//NONSGML v1.0//EN
CALSCALE:GREGORIAN
METHOD:PUBLISH
X-WR-CALNAME:VDS
X-ORIGINAL-URL:https://vds.tech
X-WR-CALDESC:Events for VDS
REFRESH-INTERVAL;VALUE=DURATION:PT1H
X-Robots-Tag:noindex
X-PUBLISHED-TTL:PT1H
BEGIN:VTIMEZONE
TZID:Europe/Madrid
BEGIN:DAYLIGHT
TZOFFSETFROM:+0100
TZOFFSETTO:+0200
TZNAME:CEST
DTSTART:20240331T010000
END:DAYLIGHT
BEGIN:STANDARD
TZOFFSETFROM:+0200
TZOFFSETTO:+0100
TZNAME:CET
DTSTART:20241027T010000
END:STANDARD
BEGIN:DAYLIGHT
TZOFFSETFROM:+0100
TZOFFSETTO:+0200
TZNAME:CEST
DTSTART:20250330T010000
END:DAYLIGHT
BEGIN:STANDARD
TZOFFSETFROM:+0200
TZOFFSETTO:+0100
TZNAME:CET
DTSTART:20251026T010000
END:STANDARD
BEGIN:DAYLIGHT
TZOFFSETFROM:+0100
TZOFFSETTO:+0200
TZNAME:CEST
DTSTART:20260329T010000
END:DAYLIGHT
BEGIN:STANDARD
TZOFFSETFROM:+0200
TZOFFSETTO:+0100
TZNAME:CET
DTSTART:20261025T010000
END:STANDARD
END:VTIMEZONE
BEGIN:VEVENT
DTSTART;TZID=Europe/Madrid:20251022T120000
DTEND;TZID=Europe/Madrid:20251022T122000
DTSTAMP:20260422T130858
CREATED:20250923T152315Z
LAST-MODIFIED:20251023T070118Z
UID:48826-1761134400-1761135600@vds.tech
SUMMARY:Scaling Product and Talent with AI: Lessons from Global Expansion
DESCRIPTION:Global product expansion goes beyond technology\, it’s about people. This session explores how AI and talent fuel scalable growth\, helping companies adapt to new markets\, ensure compliance\, and stay human-centric. Drawing from Sesame HR’s international journey\, we’ll share lessons on building adaptable products and shaping the future of work responsibly.
URL:https://vds.tech/event/scaling-product-and-talent-with-ai-lessons-from-global-expansion/
LOCATION:Workshop Room
CATEGORIES:Workshop Room
ORGANIZER;CN="Silvia Valero":MAILTO:s.valero@sesametime.com
END:VEVENT
END:VCALENDAR