BEGIN:VCALENDAR
VERSION:2.0
PRODID:-//VDS - ECPv6.15.20//NONSGML v1.0//EN
CALSCALE:GREGORIAN
METHOD:PUBLISH
X-WR-CALNAME:VDS
X-ORIGINAL-URL:https://vds.tech
X-WR-CALDESC:Events for VDS
REFRESH-INTERVAL;VALUE=DURATION:PT1H
X-Robots-Tag:noindex
X-PUBLISHED-TTL:PT1H
BEGIN:VTIMEZONE
TZID:Europe/Madrid
BEGIN:DAYLIGHT
TZOFFSETFROM:+0100
TZOFFSETTO:+0200
TZNAME:CEST
DTSTART:20240331T010000
END:DAYLIGHT
BEGIN:STANDARD
TZOFFSETFROM:+0200
TZOFFSETTO:+0100
TZNAME:CET
DTSTART:20241027T010000
END:STANDARD
BEGIN:DAYLIGHT
TZOFFSETFROM:+0100
TZOFFSETTO:+0200
TZNAME:CEST
DTSTART:20250330T010000
END:DAYLIGHT
BEGIN:STANDARD
TZOFFSETFROM:+0200
TZOFFSETTO:+0100
TZNAME:CET
DTSTART:20251026T010000
END:STANDARD
BEGIN:DAYLIGHT
TZOFFSETFROM:+0100
TZOFFSETTO:+0200
TZNAME:CEST
DTSTART:20260329T010000
END:DAYLIGHT
BEGIN:STANDARD
TZOFFSETFROM:+0200
TZOFFSETTO:+0100
TZNAME:CET
DTSTART:20261025T010000
END:STANDARD
END:VTIMEZONE
BEGIN:VEVENT
DTSTART;TZID=Europe/Madrid:20251022T124000
DTEND;TZID=Europe/Madrid:20251022T125500
DTSTAMP:20260422T130741
CREATED:20240926T103825Z
LAST-MODIFIED:20251023T070048Z
UID:31151-1761136800-1761137700@vds.tech
SUMMARY:Semiconductor Global & EU Markets: Forecast & Scenarios
DESCRIPTION:Despite its cyclical nature\, the semiconductor sector is experiencing one of its most\ninteresting periods with the greatest potential for expansion due to the significant\ndevelopment of artificial intelligence\, the need for data storage and processing\, and\nother applications such as the Internet of Things. Most forecasts predict strong\ngrowth in the sector by 2030. Drawing on her significant experience as president of\nTSMC Europe\, Maria Marced will offer a description of the current situation in the\nsector\, as well as some interesting business opportunities emerging in this\ntechnological environment.
URL:https://vds.tech/event/semiconductor-global-eu-markets-forecast-scenarios/
LOCATION:Santander Stage
CATEGORIES:Santander Stage
ORGANIZER;CN="Maria Marced":MAILTO:maria.a.marced@gmail.com
END:VEVENT
END:VCALENDAR