BEGIN:VCALENDAR
VERSION:2.0
PRODID:-//VDS - ECPv6.15.20//NONSGML v1.0//EN
CALSCALE:GREGORIAN
METHOD:PUBLISH
X-WR-CALNAME:VDS
X-ORIGINAL-URL:https://vds.tech
X-WR-CALDESC:Events for VDS
REFRESH-INTERVAL;VALUE=DURATION:PT1H
X-Robots-Tag:noindex
X-PUBLISHED-TTL:PT1H
BEGIN:VTIMEZONE
TZID:Europe/Madrid
BEGIN:DAYLIGHT
TZOFFSETFROM:+0100
TZOFFSETTO:+0200
TZNAME:CEST
DTSTART:20240331T010000
END:DAYLIGHT
BEGIN:STANDARD
TZOFFSETFROM:+0200
TZOFFSETTO:+0100
TZNAME:CET
DTSTART:20241027T010000
END:STANDARD
BEGIN:DAYLIGHT
TZOFFSETFROM:+0100
TZOFFSETTO:+0200
TZNAME:CEST
DTSTART:20250330T010000
END:DAYLIGHT
BEGIN:STANDARD
TZOFFSETFROM:+0200
TZOFFSETTO:+0100
TZNAME:CET
DTSTART:20251026T010000
END:STANDARD
BEGIN:DAYLIGHT
TZOFFSETFROM:+0100
TZOFFSETTO:+0200
TZNAME:CEST
DTSTART:20260329T010000
END:DAYLIGHT
BEGIN:STANDARD
TZOFFSETFROM:+0200
TZOFFSETTO:+0100
TZNAME:CET
DTSTART:20261025T010000
END:STANDARD
END:VTIMEZONE
BEGIN:VEVENT
DTSTART;TZID=Europe/Madrid:20251022T154000
DTEND;TZID=Europe/Madrid:20251022T161000
DTSTAMP:20260422T130528
CREATED:20251003T111736Z
LAST-MODIFIED:20251023T070214Z
UID:50744-1761147600-1761149400@vds.tech
SUMMARY:Startup Financing Management
DESCRIPTION:How do startups turn investor capital into growth?\nThis roundtable brings together founders to share real‑world strategies on managing funds after a successful raise.\nWe’ll explore where the money goes\, how to balance runway with growth\, and the trade‑offs behind key spending decisions.\nSpeakers will reveal what convinced investors to back them and how they maintain trust and transparency post‑investment.\nExpect candid insights on reporting\, governance\, and the value investors bring beyond the check.\nJoin us for practical lessons and actionable tips to make every euro—and every relationship—count.
URL:https://vds.tech/event/startup-financing-management/
LOCATION:Workshop Room
CATEGORIES:Workshop Room
ORGANIZER;CN="Sixto Santamar%C3%ADa":MAILTO:sixto.santamaria@datia-analytics.com
END:VEVENT
END:VCALENDAR