BEGIN:VCALENDAR
VERSION:2.0
PRODID:-//VDS - ECPv6.15.20//NONSGML v1.0//EN
CALSCALE:GREGORIAN
METHOD:PUBLISH
X-WR-CALNAME:VDS
X-ORIGINAL-URL:https://vds.tech
X-WR-CALDESC:Events for VDS
REFRESH-INTERVAL;VALUE=DURATION:PT1H
X-Robots-Tag:noindex
X-PUBLISHED-TTL:PT1H
BEGIN:VTIMEZONE
TZID:Europe/Madrid
BEGIN:DAYLIGHT
TZOFFSETFROM:+0100
TZOFFSETTO:+0200
TZNAME:CEST
DTSTART:20240331T010000
END:DAYLIGHT
BEGIN:STANDARD
TZOFFSETFROM:+0200
TZOFFSETTO:+0100
TZNAME:CET
DTSTART:20241027T010000
END:STANDARD
BEGIN:DAYLIGHT
TZOFFSETFROM:+0100
TZOFFSETTO:+0200
TZNAME:CEST
DTSTART:20250330T010000
END:DAYLIGHT
BEGIN:STANDARD
TZOFFSETFROM:+0200
TZOFFSETTO:+0100
TZNAME:CET
DTSTART:20251026T010000
END:STANDARD
BEGIN:DAYLIGHT
TZOFFSETFROM:+0100
TZOFFSETTO:+0200
TZNAME:CEST
DTSTART:20260329T010000
END:DAYLIGHT
BEGIN:STANDARD
TZOFFSETFROM:+0200
TZOFFSETTO:+0100
TZNAME:CET
DTSTART:20261025T010000
END:STANDARD
END:VTIMEZONE
BEGIN:VEVENT
DTSTART;TZID=Europe/Madrid:20251023T122000
DTEND;TZID=Europe/Madrid:20251023T124000
DTSTAMP:20260422T141749
CREATED:20251021T105150Z
LAST-MODIFIED:20251023T070200Z
UID:66468-1761222000-1761223200@vds.tech
SUMMARY:Strategic Capital: How Corporates Are Driving Innovation Through Venture Investment
DESCRIPTION:Corporate Venture Capital is no longer just about financial returns — it’s a strategic tool for accessing innovation\, markets\, and talent. In this panel\, leaders from Telefónica\, CEMEX\, Elewit\, and EY discuss how large corporations are leveraging venture investments to future-proof their industries\, collaborate with startups\, and stay competitive in a fast-moving tech landscape.
URL:https://vds.tech/event/strategic-capital-how-corporates-are-driving-innovation-through-venture-investment/
LOCATION:Discovery Stage
CATEGORIES:Discovery Stage
ORGANIZER;CN="Carlos Ruis%C3%A1nchez":MAILTO:carlos.ruisanchezperez@telefonica.com
END:VEVENT
END:VCALENDAR