BEGIN:VCALENDAR
VERSION:2.0
PRODID:-//VDS - ECPv6.15.20//NONSGML v1.0//EN
CALSCALE:GREGORIAN
METHOD:PUBLISH
X-WR-CALNAME:VDS
X-ORIGINAL-URL:https://vds.tech
X-WR-CALDESC:Events for VDS
REFRESH-INTERVAL;VALUE=DURATION:PT1H
X-Robots-Tag:noindex
X-PUBLISHED-TTL:PT1H
BEGIN:VTIMEZONE
TZID:Europe/Madrid
BEGIN:DAYLIGHT
TZOFFSETFROM:+0100
TZOFFSETTO:+0200
TZNAME:CEST
DTSTART:20240331T010000
END:DAYLIGHT
BEGIN:STANDARD
TZOFFSETFROM:+0200
TZOFFSETTO:+0100
TZNAME:CET
DTSTART:20241027T010000
END:STANDARD
BEGIN:DAYLIGHT
TZOFFSETFROM:+0100
TZOFFSETTO:+0200
TZNAME:CEST
DTSTART:20250330T010000
END:DAYLIGHT
BEGIN:STANDARD
TZOFFSETFROM:+0200
TZOFFSETTO:+0100
TZNAME:CET
DTSTART:20251026T010000
END:STANDARD
BEGIN:DAYLIGHT
TZOFFSETFROM:+0100
TZOFFSETTO:+0200
TZNAME:CEST
DTSTART:20260329T010000
END:DAYLIGHT
BEGIN:STANDARD
TZOFFSETFROM:+0200
TZOFFSETTO:+0100
TZNAME:CET
DTSTART:20261025T010000
END:STANDARD
END:VTIMEZONE
BEGIN:VEVENT
DTSTART;TZID=Europe/Madrid:20251022T104000
DTEND;TZID=Europe/Madrid:20251022T110000
DTSTAMP:20260422T130806
CREATED:20251014T155831Z
LAST-MODIFIED:20251023T070247Z
UID:56545-1761129600-1761130800@vds.tech
SUMMARY:The Hidden Multiplier: How Belonging Supercharges Teams & Innovation
DESCRIPTION:When people feel like they don’t belong\, they disengage\, hide ideas\, or even walk away. In this interactive workshop\, we’ll surface the hidden “belonging leaks” that quietly erode teams\, explore the four drivers that create authentic connection\, and design quick\, practical actions you can put into play immediately. You’ll leave with sharper awareness of your culture—and a simple plan to strengthen it.
URL:https://vds.tech/event/the-hidden-multiplier-how-belonging-supercharges-teams-innovation/
LOCATION:Workshop Room
CATEGORIES:Workshop Room
ORGANIZER;CN="Agata Bednarek":MAILTO:agata.bednarek@diverseleadersintech.com
END:VEVENT
END:VCALENDAR