BEGIN:VCALENDAR
VERSION:2.0
PRODID:-//VDS - ECPv6.15.20//NONSGML v1.0//EN
CALSCALE:GREGORIAN
METHOD:PUBLISH
X-WR-CALNAME:VDS
X-ORIGINAL-URL:https://vds.tech
X-WR-CALDESC:Events for VDS
REFRESH-INTERVAL;VALUE=DURATION:PT1H
X-Robots-Tag:noindex
X-PUBLISHED-TTL:PT1H
BEGIN:VTIMEZONE
TZID:Europe/Madrid
BEGIN:DAYLIGHT
TZOFFSETFROM:+0100
TZOFFSETTO:+0200
TZNAME:CEST
DTSTART:20240331T010000
END:DAYLIGHT
BEGIN:STANDARD
TZOFFSETFROM:+0200
TZOFFSETTO:+0100
TZNAME:CET
DTSTART:20241027T010000
END:STANDARD
BEGIN:DAYLIGHT
TZOFFSETFROM:+0100
TZOFFSETTO:+0200
TZNAME:CEST
DTSTART:20250330T010000
END:DAYLIGHT
BEGIN:STANDARD
TZOFFSETFROM:+0200
TZOFFSETTO:+0100
TZNAME:CET
DTSTART:20251026T010000
END:STANDARD
BEGIN:DAYLIGHT
TZOFFSETFROM:+0100
TZOFFSETTO:+0200
TZNAME:CEST
DTSTART:20260329T010000
END:DAYLIGHT
BEGIN:STANDARD
TZOFFSETFROM:+0200
TZOFFSETTO:+0100
TZNAME:CET
DTSTART:20261025T010000
END:STANDARD
END:VTIMEZONE
BEGIN:VEVENT
DTSTART;TZID=Europe/Madrid:20251022T102000
DTEND;TZID=Europe/Madrid:20251022T104000
DTSTAMP:20260422T131025
CREATED:20250828T111523Z
LAST-MODIFIED:20251023T070122Z
UID:45275-1761128400-1761129600@vds.tech
SUMMARY:The Real Road to Unicorn: Grit\, Chaos and Everything in Between
DESCRIPTION:Behind every unicorn success story lies a path far messier than the headlines suggest. In this honest and unfiltered fireside chat\, two unicorn founders — Enrique Linares (founder of Letgo) and Sacha Michaud (co-founder of Glovo) — sit down to share what it really takes to build and scale a billion-dollar company. \nFrom near-failures and chaotic pivots to the relentless personal pressure of leading fast-growing teams\, they’ll unpack the grit\, sacrifices\, and uncomfortable truths that often go untold. This is not a highlight reel — it’s a candid conversation about the emotional rollercoaster of entrepreneurship\, the myths of startup culture\, and the difference between chasing hype and building lasting value.
URL:https://vds.tech/event/the-real-road-to-unicorn-grit-chaos-and-everything-in-between/
LOCATION:Main Stage
CATEGORIES:Main Stage
ORGANIZER;CN="Sacha Michaud":MAILTO:alvaro.jimenez@glovoapp.com
END:VEVENT
END:VCALENDAR