BEGIN:VCALENDAR
VERSION:2.0
PRODID:-//VDS - ECPv6.15.20//NONSGML v1.0//EN
CALSCALE:GREGORIAN
METHOD:PUBLISH
X-WR-CALNAME:VDS
X-ORIGINAL-URL:https://vds.tech
X-WR-CALDESC:Events for VDS
REFRESH-INTERVAL;VALUE=DURATION:PT1H
X-Robots-Tag:noindex
X-PUBLISHED-TTL:PT1H
BEGIN:VTIMEZONE
TZID:Europe/Madrid
BEGIN:DAYLIGHT
TZOFFSETFROM:+0100
TZOFFSETTO:+0200
TZNAME:CEST
DTSTART:20240331T010000
END:DAYLIGHT
BEGIN:STANDARD
TZOFFSETFROM:+0200
TZOFFSETTO:+0100
TZNAME:CET
DTSTART:20241027T010000
END:STANDARD
BEGIN:DAYLIGHT
TZOFFSETFROM:+0100
TZOFFSETTO:+0200
TZNAME:CEST
DTSTART:20250330T010000
END:DAYLIGHT
BEGIN:STANDARD
TZOFFSETFROM:+0200
TZOFFSETTO:+0100
TZNAME:CET
DTSTART:20251026T010000
END:STANDARD
BEGIN:DAYLIGHT
TZOFFSETFROM:+0100
TZOFFSETTO:+0200
TZNAME:CEST
DTSTART:20260329T010000
END:DAYLIGHT
BEGIN:STANDARD
TZOFFSETFROM:+0200
TZOFFSETTO:+0100
TZNAME:CET
DTSTART:20261025T010000
END:STANDARD
END:VTIMEZONE
BEGIN:VEVENT
DTSTART;TZID=Europe/Madrid:20251022T110000
DTEND;TZID=Europe/Madrid:20251022T113000
DTSTAMP:20260422T130641
CREATED:20251013T093030Z
LAST-MODIFIED:20251023T070033Z
UID:53718-1761130800-1761132600@vds.tech
SUMMARY:Why Melilla\, Why Now: The Competitive Edge for Setup & Scale
DESCRIPTION:In this real-talk session\, we’ll explore how a compact Mediterranean city with a solid digital backbone (sparked by a thriving online-gaming sector) is quietly attracting an increasing number of technology projects. We’ll examine what today’s companies truly weigh when choosing where to locate: operational efficiency\, connectivity\, access to talent\, quality of life\, and the ability to pilot new business models without the frictions of overcrowded hubs. Using Melilla as a live case\, we’ll outline how a right-sized ecosystem can offer a competitive environment with meaningful incentives\, robust infrastructure\, and the everyday advantages that help teams perform and stay.\nWe’ll discuss de-risking expansion\, shortening time-to-set-up\, focusing product and ops\, key site-selection questions\, stage fit from first footprint to scale\, and practical takeaways you can apply immediately.
URL:https://vds.tech/event/why-melilla-why-now-the-competitive-edge-for-setup-scale/
LOCATION:Workshop Room
CATEGORIES:Workshop Room
ORGANIZER;CN="Jes%C3%BAs Mart%C3%ADnez":MAILTO:jmarti16@melilla.es
END:VEVENT
END:VCALENDAR